BEGIN:VCALENDAR
VERSION:2.0
PRODID:-//Nigerian Bar Association - Section on Business Law - ECPv6.15.20//NONSGML v1.0//EN
CALSCALE:GREGORIAN
METHOD:PUBLISH
X-ORIGINAL-URL:https://nbasbl.org
X-WR-CALDESC:Events for Nigerian Bar Association - Section on Business Law
REFRESH-INTERVAL;VALUE=DURATION:PT1H
X-Robots-Tag:noindex
X-PUBLISHED-TTL:PT1H
BEGIN:VTIMEZONE
TZID:Africa/Lagos
BEGIN:STANDARD
TZOFFSETFROM:+0100
TZOFFSETTO:+0100
TZNAME:WAT
DTSTART:20220101T000000
END:STANDARD
END:VTIMEZONE
BEGIN:VEVENT
DTSTART;TZID=Africa/Lagos:20230411T080000
DTEND;TZID=Africa/Lagos:20230412T170000
DTSTAMP:20260419T151312
CREATED:20230317T134211Z
LAST-MODIFIED:20230323T132610Z
UID:10000012-1681200000-1681318800@nbasbl.org
SUMMARY:Accounting Essentials for Lawyers
DESCRIPTION:The NBA-SBL Training Committee is organising a physical training on Accounting Essentials for Lawyers on Tuesday 11 and Wednesday 12\, April 2023 at the Lagos Court of Arbitration\, Lekki\, Lagos. \nThe Session will be facilitated by Workforce Management Group professionals and will focus on the followings: \n\nFinancial principles and balance sheet – What it is and why it is important for Lawyers\,\nIncome and expenditure account\,\nManagement account and\,\nProper accounting reporting standards and efficient ways to prepare Companies’ financial transactions\, financial performance\, cash flows\, etc.\n\nRegistration fees are \na.) Members – N90\,000\nb.) Non-Members – N100\,000. \nThe training is limited to ONLY 50 persons on a first come and first\, serve basis. \nKindly urgently indicate your interest to participate by sending an email to the Section Administrator at endurance.uhumuavbi@nbasbl.org and promptly make payment into the account details provided below to confirm your participation. \nPayee: Section on Business Law (NBA)\nBank: Stanbic IBTC Bank\nAccount No: 0011576265 \nKindly contact Endurance Uhumuavbi (Section Administrator) on Mobile: 08054881300 E-mail: endurance.uhumuavbi@nbasbl.org \nif you require additional information or clarification
URL:https://nbasbl.org/event/accounting-essentials-for-lawyers/
LOCATION:Lagos Court of Arbitration\, Lekki Phase 1. Lagos\, CFF8+PVH\, Eti-Osa 106104\, Lagos\, Lekki\, Nigeria
CATEGORIES:Training
ATTACH;FMTTYPE=image/jpeg:https://nbasbl.org/wp-content/uploads/2023/03/Train.jpg
END:VEVENT
END:VCALENDAR